BEGIN:VCALENDAR
VERSION:2.0
PRODID:-//https://oppla.eu//NONSGML iCalcreator 2.41.92//
CALSCALE:GREGORIAN
METHOD:PUBLISH
UID:35613032-6664-4466-a434-326138396463
X-WR-RELCALID:node-13642-field_event_date
X-WR-TIMEZONE:Europe/Brussels
X-WR-CALNAME:NBS EduWORLD Summer School '
BEGIN:VTIMEZONE
TZID:Europe/Brussels
TZUNTIL:20270328T010000Z
BEGIN:STANDARD
TZNAME:CET
DTSTART:20241027T030000
TZOFFSETFROM:+0200
TZOFFSETTO:+0100
RDATE:20251026T030000
RDATE:20261025T030000
END:STANDARD
BEGIN:DAYLIGHT
TZNAME:CEST
DTSTART:20250330T020000
TZOFFSETFROM:+0100
TZOFFSETTO:+0200
RDATE:20260329T020000
END:DAYLIGHT
END:VTIMEZONE
BEGIN:VEVENT
UID:32323963-6630-4264-b739-653934366434
DTSTAMP:20260421T151036Z
CATEGORIES:NBS EduWORLD Summer School '
CLASS:PUBLIC
CREATED:20250609T151017Z
DESCRIPTION:The NBS EduWORLD project is organising the 2nd International Pr
 ofessional Development Course\, part of the NBS EduWORLD Academy for schoo
 l heads and...
DTSTART;TZID=Europe/Brussels:20250629T000000
DTEND;TZID=Europe/Brussels:20250704T235900
LAST-MODIFIED:20251127T112602Z
SUMMARY:NBS EduWORLD Summer School '
TRANSP:OPAQUE
END:VEVENT
END:VCALENDAR
