BEGIN:VCALENDAR
VERSION:2.0
PRODID:-//https://oppla.eu//NONSGML iCalcreator 2.41.92//
CALSCALE:GREGORIAN
METHOD:PUBLISH
UID:35396634-6134-4836-b732-343265323537
X-WR-RELCALID:node-13645-field_event_date
X-WR-TIMEZONE:Europe/Brussels
X-WR-CALNAME:Final NBS EduWORLD UrbanByNature webinar: Nature for All – Mak
 ing Nature-based Solution Education globally accessible and inclusive
BEGIN:VTIMEZONE
TZID:Europe/Brussels
TZUNTIL:20270328T010000Z
BEGIN:STANDARD
TZNAME:CET
DTSTART:20241027T030000
TZOFFSETFROM:+0200
TZOFFSETTO:+0100
RDATE:20251026T030000
RDATE:20261025T030000
END:STANDARD
BEGIN:DAYLIGHT
TZNAME:CEST
DTSTART:20250330T020000
TZOFFSETFROM:+0100
TZOFFSETTO:+0200
RDATE:20260329T020000
END:DAYLIGHT
END:VTIMEZONE
BEGIN:VEVENT
UID:32653935-6165-4737-a532-303832633534
DTSTAMP:20260421T151943Z
CATEGORIES:Final NBS EduWORLD UrbanByNature webinar: Nature for All – Makin
 g Nature-based Solution Education globally accessible and inclusive
CLASS:PUBLIC
CREATED:20250609T152826Z
DESCRIPTION:The webinar will explore how to make nature-based solutions edu
 cation globally inclusive by addressing systemic barriers\, valuing local 
 knowledge a...
DTSTART;TZID=Europe/Brussels:20250703T150000
DTEND;TZID=Europe/Brussels:20250703T163000
LAST-MODIFIED:20251127T112602Z
SUMMARY:Final NBS EduWORLD UrbanByNature webinar: Nature for All – Making N
 ature-based Solution Education globally accessible and inclusive
TRANSP:OPAQUE
END:VEVENT
END:VCALENDAR
