BEGIN:VCALENDAR
VERSION:2.0
PRODID:-//https://oppla.eu//NONSGML iCalcreator 2.41.92//
CALSCALE:GREGORIAN
METHOD:PUBLISH
UID:61616138-3662-4937-b361-323131363139
X-WR-RELCALID:node-14625-field_event_date
X-WR-TIMEZONE:Europe/Brussels
X-WR-CALNAME:European Climate Change Adaptation conference
BEGIN:VTIMEZONE
TZID:Europe/Brussels
TZUNTIL:20210328T010000Z
BEGIN:STANDARD
TZNAME:CET
DTSTART:20181028T030000
TZOFFSETFROM:+0200
TZOFFSETTO:+0100
RDATE:20191027T030000
RDATE:20201025T030000
END:STANDARD
BEGIN:DAYLIGHT
TZNAME:CEST
DTSTART:20190331T020000
TZOFFSETFROM:+0100
TZOFFSETTO:+0200
RDATE:20200329T020000
END:DAYLIGHT
END:VTIMEZONE
BEGIN:VEVENT
UID:31336134-3938-4430-a634-353561343532
DTSTAMP:20260425T192316Z
CATEGORIES:European Climate Change Adaptation conference
CLASS:PUBLIC
CREATED:20181204T151403Z
DESCRIPTION:The European Climate Change Adaptation conference (ECCA) 2019wi
 ll attract more than 1\,000 delegates from all over the world. The confere
 nceis an op...
DTSTART;TZID=Europe/Brussels:20190528T000000
DTEND;TZID=Europe/Brussels:20190531T000000
LAST-MODIFIED:20220721T105526Z
SUMMARY:European Climate Change Adaptation conference
TRANSP:OPAQUE
END:VEVENT
END:VCALENDAR
