BEGIN:VCALENDAR
VERSION:2.0
PRODID:-//https://oppla.eu//NONSGML iCalcreator 2.41.92//
CALSCALE:GREGORIAN
METHOD:PUBLISH
UID:39323135-6630-4265-b439-656233336164
X-WR-RELCALID:node-14761-field_event_date
X-WR-TIMEZONE:Europe/Brussels
X-WR-CALNAME:Launch of WHO overview report on nature\, biodiversity and hea
 lth
BEGIN:VTIMEZONE
TZID:Europe/Brussels
TZUNTIL:20230326T010000Z
BEGIN:STANDARD
TZNAME:CET
DTSTART:20201025T030000
TZOFFSETFROM:+0200
TZOFFSETTO:+0100
RDATE:20211031T030000
RDATE:20221030T030000
END:STANDARD
BEGIN:DAYLIGHT
TZNAME:CEST
DTSTART:20210328T020000
TZOFFSETFROM:+0100
TZOFFSETTO:+0200
RDATE:20220327T020000
END:DAYLIGHT
END:VTIMEZONE
BEGIN:VEVENT
UID:33333265-3234-4535-a566-653436326664
DTSTAMP:20260423T215847Z
CATEGORIES:Launch of WHO overview report on nature\, biodiversity and healt
 h
CLASS:PUBLIC
CREATED:20210419T084704Z
DESCRIPTION:The global environment is changing\, and these changes have pro
 found and negative impacts on nature from a worldwide reduction in biodive
 rsity and ...
DTSTART;TZID=Europe/Brussels:20210520T100000
DTEND;TZID=Europe/Brussels:20210520T113000
LAST-MODIFIED:20220721T105518Z
SUMMARY:Launch of WHO overview report on nature\, biodiversity and health
TRANSP:OPAQUE
END:VEVENT
END:VCALENDAR
