BEGIN:VCALENDAR
VERSION:2.0
PRODID:-//https://oppla.eu//NONSGML iCalcreator 2.41.92//
CALSCALE:GREGORIAN
METHOD:PUBLISH
UID:33326538-3336-4231-b165-313066333662
X-WR-RELCALID:node-14792-field_event_date
X-WR-TIMEZONE:Europe/Brussels
X-WR-CALNAME:Pitch Your Nature-Based Enterprise!
BEGIN:VTIMEZONE
TZID:Europe/Brussels
TZUNTIL:20230326T010000Z
BEGIN:STANDARD
TZNAME:CET
DTSTART:20201025T030000
TZOFFSETFROM:+0200
TZOFFSETTO:+0100
RDATE:20211031T030000
RDATE:20221030T030000
END:STANDARD
BEGIN:DAYLIGHT
TZNAME:CEST
DTSTART:20210328T020000
TZOFFSETFROM:+0100
TZOFFSETTO:+0200
RDATE:20220327T020000
END:DAYLIGHT
END:VTIMEZONE
BEGIN:VEVENT
UID:61333937-3231-4766-a262-393666613139
DTSTAMP:20260420T223918Z
CATEGORIES:Pitch Your Nature-Based Enterprise!
CLASS:PUBLIC
CREATED:20210528T170935Z
DESCRIPTION:Pitch your enterprise / innovation / story to a global audience
  of 1000+ at the Connecting Nature Enterprise Summit Poznan on 29 - 30 Jun
 e 2021 and...
DTSTART;TZID=Europe/Brussels:20210629T000000
DTEND;TZID=Europe/Brussels:20210630T000000
LAST-MODIFIED:20220721T105515Z
SUMMARY:Pitch Your Nature-Based Enterprise!
TRANSP:OPAQUE
END:VEVENT
END:VCALENDAR
