BEGIN:VCALENDAR
VERSION:2.0
PRODID:-//https://oppla.eu//NONSGML iCalcreator 2.41.92//
CALSCALE:GREGORIAN
METHOD:PUBLISH
UID:61316436-3235-4965-a663-383236353631
X-WR-RELCALID:node-14851-field_event_date
X-WR-TIMEZONE:Europe/Brussels
X-WR-CALNAME:Nature-based solutions: Peatland restoration for climate and e
 nvironment
BEGIN:VTIMEZONE
TZID:Europe/Brussels
TZUNTIL:20230326T010000Z
BEGIN:STANDARD
TZNAME:CET
DTSTART:20201025T030000
TZOFFSETFROM:+0200
TZOFFSETTO:+0100
RDATE:20211031T030000
RDATE:20221030T030000
END:STANDARD
BEGIN:DAYLIGHT
TZNAME:CEST
DTSTART:20210328T020000
TZOFFSETFROM:+0100
TZOFFSETTO:+0200
RDATE:20220327T020000
END:DAYLIGHT
END:VTIMEZONE
BEGIN:VEVENT
UID:39373634-3861-4166-b638-653935376431
DTSTAMP:20260423T061029Z
CATEGORIES:Nature-based solutions: Peatland restoration for climate and env
 ironment
CLASS:PUBLIC
CREATED:20210909T074526Z
DESCRIPTION:Scotland House Brussels\, in partnership withICLEI Europe\, is 
 delighted to invite you to the next in our series ofRoad to COP26 events. 
 With theUN D...
DTSTART;TZID=Europe/Brussels:20210921T140000
DTEND;TZID=Europe/Brussels:20210921T150000
LAST-MODIFIED:20220721T105512Z
SUMMARY:Nature-based solutions: Peatland restoration for climate and enviro
 nment
TRANSP:OPAQUE
END:VEVENT
END:VCALENDAR
