BEGIN:VCALENDAR
VERSION:2.0
PRODID:-//https://oppla.eu//NONSGML iCalcreator 2.41.92//
CALSCALE:GREGORIAN
METHOD:PUBLISH
UID:34303263-3936-4434-a165-316466376565
X-WR-RELCALID:node-14857-field_event_date
X-WR-TIMEZONE:Europe/Brussels
X-WR-CALNAME:UrbanByNature China Webinar #3: Planning Nature-based Solution
 s with Citizens and other Stakeholders
BEGIN:VTIMEZONE
TZID:Europe/Brussels
TZUNTIL:20231029T010000Z
BEGIN:STANDARD
TZNAME:CET
DTSTART:20211031T030000
TZOFFSETFROM:+0200
TZOFFSETTO:+0100
RDATE:20221030T030000
END:STANDARD
BEGIN:DAYLIGHT
TZNAME:CEST
DTSTART:20210328T020000
TZOFFSETFROM:+0100
TZOFFSETTO:+0200
RDATE:20220327T020000
RDATE:20230326T020000
END:DAYLIGHT
END:VTIMEZONE
BEGIN:VEVENT
UID:37643766-3432-4630-a535-396537623835
DTSTAMP:20260421T230940Z
CATEGORIES:UrbanByNature China Webinar #3: Planning Nature-based Solutions 
 with Citizens and other Stakeholders
CLASS:PUBLIC
CREATED:20210915T125255Z
DESCRIPTION:The thirdUrbanByNature (UbN) Chinawebinar will proceed to STEP3
 /PRIORITISE of the UbN programme. The webinar will provide insights into t
 he importa...
DTSTART;TZID=Europe/Brussels:20211027T090000
DTEND;TZID=Europe/Brussels:20211027T103000
LAST-MODIFIED:20240502T133948Z
SUMMARY:UrbanByNature China Webinar #3: Planning Nature-based Solutions wit
 h Citizens and other Stakeholders
TRANSP:OPAQUE
END:VEVENT
END:VCALENDAR
