BEGIN:VCALENDAR
VERSION:2.0
PRODID:-//https://oppla.eu//NONSGML iCalcreator 2.41.92//
CALSCALE:GREGORIAN
METHOD:PUBLISH
UID:65383963-3561-4436-b166-323466616139
X-WR-RELCALID:node-14870-field_event_date
X-WR-TIMEZONE:Europe/Brussels
X-WR-CALNAME:GoGreenRoutes Autumn School on Nature for Health: A Shared Age
 nda
BEGIN:VTIMEZONE
TZID:Europe/Brussels
TZUNTIL:20231029T010000Z
BEGIN:STANDARD
TZNAME:CET
DTSTART:20201025T030000
TZOFFSETFROM:+0200
TZOFFSETTO:+0100
RDATE:20211031T030000
RDATE:20221030T030000
END:STANDARD
BEGIN:DAYLIGHT
TZNAME:CEST
DTSTART:20210328T020000
TZOFFSETFROM:+0100
TZOFFSETTO:+0200
RDATE:20220327T020000
RDATE:20230326T020000
END:DAYLIGHT
END:VTIMEZONE
BEGIN:VEVENT
UID:61323365-6437-4063-b538-373238636164
DTSTAMP:20260425T114943Z
CATEGORIES:GoGreenRoutes Autumn School on Nature for Health: A Shared Agend
 a
CLASS:PUBLIC
CREATED:20211006T072528Z
DESCRIPTION:The GoGreenRoutes Autumn School will be a hybrid event\, with t
 he option to attend in person at Maynooth University\, Co. Kildare\, Irela
 nd or online ...
DTSTART;TZID=Europe/Brussels:20211011T000000
DTEND;TZID=Europe/Brussels:20211013T000000
LAST-MODIFIED:20240502T133948Z
SUMMARY:GoGreenRoutes Autumn School on Nature for Health: A Shared Agenda
TRANSP:OPAQUE
END:VEVENT
END:VCALENDAR
