BEGIN:VCALENDAR
VERSION:2.0
PRODID:-//https://oppla.eu//NONSGML iCalcreator 2.41.92//
CALSCALE:GREGORIAN
METHOD:PUBLISH
UID:34623237-3536-4865-b933-653231616365
X-WR-RELCALID:node-15100-field_event_date
X-WR-TIMEZONE:Europe/Brussels
X-WR-CALNAME:Data Beyond Borders
BEGIN:VTIMEZONE
TZID:Europe/Brussels
TZUNTIL:20241027T010000Z
BEGIN:STANDARD
TZNAME:CET
DTSTART:20211031T030000
TZOFFSETFROM:+0200
TZOFFSETTO:+0100
RDATE:20221030T030000
RDATE:20231029T030000
END:STANDARD
BEGIN:DAYLIGHT
TZNAME:CEST
DTSTART:20220327T020000
TZOFFSETFROM:+0100
TZOFFSETTO:+0200
RDATE:20230326T020000
RDATE:20240331T020000
END:DAYLIGHT
END:VTIMEZONE
BEGIN:VEVENT
UID:63626630-6165-4363-b039-316463333762
DTSTAMP:20260426T034657Z
CATEGORIES:Data Beyond Borders
CLASS:PUBLIC
CREATED:20220915T134720Z
DESCRIPTION:Join Biodiversa+ and GBIF for a one-day symposium in the heart 
 of Brussels!Biodiversa+ and GBIF are pleased to invite you to a one-day sy
 mposium&nb...
DTSTART;TZID=Europe/Brussels:20221010T090000
DTEND;TZID=Europe/Brussels:20221010T170000
LAST-MODIFIED:20220915T134720Z
SUMMARY:Data Beyond Borders
TRANSP:OPAQUE
END:VEVENT
END:VCALENDAR
