BEGIN:VCALENDAR
VERSION:2.0
PRODID:-//https://oppla.eu//NONSGML iCalcreator 2.41.92//
CALSCALE:GREGORIAN
METHOD:PUBLISH
UID:37653764-3163-4232-b736-313464373539
X-WR-RELCALID:node-15134-field_event_date
X-WR-TIMEZONE:Europe/Brussels
X-WR-CALNAME:Taking Green Care to the Next Level
BEGIN:VTIMEZONE
TZID:Europe/Brussels
TZUNTIL:20241027T010000Z
BEGIN:STANDARD
TZNAME:CET
DTSTART:20221030T030000
TZOFFSETFROM:+0200
TZOFFSETTO:+0100
RDATE:20231029T030000
END:STANDARD
BEGIN:DAYLIGHT
TZNAME:CEST
DTSTART:20220327T020000
TZOFFSETFROM:+0100
TZOFFSETTO:+0200
RDATE:20230326T020000
RDATE:20240331T020000
END:DAYLIGHT
END:VTIMEZONE
BEGIN:VEVENT
UID:37646638-3239-4165-b836-663339326261
DTSTAMP:20260421T035204Z
CATEGORIES:Taking Green Care to the Next Level
CLASS:PUBLIC
CREATED:20221123T110107Z
DESCRIPTION:The Green4C (GreenForCare) project\, co-funded by Erasmus+ Prog
 ramme of the European Union\, has been working the last three years toward
 s innov...
DTSTART;TZID=Europe/Brussels:20221207T110000
DTEND;TZID=Europe/Brussels:20221207T140000
LAST-MODIFIED:20221123T135649Z
SUMMARY:Taking Green Care to the Next Level
TRANSP:OPAQUE
X-ALT-DESC;FMTTYPE=TEXT/HTML:The Green4C (GreenForCare) project\, co-funded
  by&nbsp\;Erasmus+ Programme of the European Union\, has been working the 
 last three years towards innov...
END:VEVENT
END:VCALENDAR
