BEGIN:VCALENDAR
VERSION:2.0
PRODID:-//https://oppla.eu//NONSGML iCalcreator 2.41.92//
CALSCALE:GREGORIAN
METHOD:PUBLISH
UID:36363533-3763-4330-b438-663837393537
X-WR-RELCALID:node-15186-field_event_date
X-WR-TIMEZONE:Europe/Brussels
X-WR-CALNAME:NetworkNature Annual Event: Enabling transformation through an
 d for nature-based solutions
BEGIN:VTIMEZONE
TZID:Europe/Brussels
TZUNTIL:20250330T010000Z
BEGIN:STANDARD
TZNAME:CET
DTSTART:20221030T030000
TZOFFSETFROM:+0200
TZOFFSETTO:+0100
RDATE:20231029T030000
RDATE:20241027T030000
END:STANDARD
BEGIN:DAYLIGHT
TZNAME:CEST
DTSTART:20230326T020000
TZOFFSETFROM:+0100
TZOFFSETTO:+0200
RDATE:20240331T020000
END:DAYLIGHT
END:VTIMEZONE
BEGIN:VEVENT
UID:63666631-3730-4534-a235-386436363961
DTSTAMP:20260422T124406Z
CATEGORIES:NetworkNature Annual Event: Enabling transformation through and 
 for nature-based solutions
CLASS:PUBLIC
CREATED:20230405T141436Z
DESCRIPTION:As NetworkNature comes to an end and prepares the ground for th
 e next chapter\, NetworkNaturePlus\, the Nature-based Solutions (NbS) comm
 unity comes ...
DTSTART;TZID=Europe/Brussels:20230608T090000
DTEND;TZID=Europe/Brussels:20230608T200000
LAST-MODIFIED:20230504T100906Z
SUMMARY:NetworkNature Annual Event: Enabling transformation through and for
  nature-based solutions
TRANSP:OPAQUE
END:VEVENT
END:VCALENDAR
