BEGIN:VCALENDAR
VERSION:2.0
PRODID:-//https://oppla.eu//NONSGML iCalcreator 2.41.92//
CALSCALE:GREGORIAN
METHOD:PUBLISH
UID:65366239-6366-4631-b733-326437323238
X-WR-RELCALID:node-15214-field_event_date
X-WR-TIMEZONE:Europe/Brussels
X-WR-CALNAME:NICE Capacity-Building Webinar: Planning tools for integration
  of NbS for water treatment in cities
BEGIN:VTIMEZONE
TZID:Europe/Brussels
TZUNTIL:20250330T010000Z
BEGIN:STANDARD
TZNAME:CET
DTSTART:20221030T030000
TZOFFSETFROM:+0200
TZOFFSETTO:+0100
RDATE:20231029T030000
RDATE:20241027T030000
END:STANDARD
BEGIN:DAYLIGHT
TZNAME:CEST
DTSTART:20230326T020000
TZOFFSETFROM:+0100
TZOFFSETTO:+0200
RDATE:20240331T020000
END:DAYLIGHT
END:VTIMEZONE
BEGIN:VEVENT
UID:36356232-6162-4364-a532-316361333735
DTSTAMP:20260420T170202Z
CATEGORIES:NICE Capacity-Building Webinar: Planning tools for integration o
 f NbS for water treatment in cities
CLASS:PUBLIC
CREATED:20230817T145525Z
DESCRIPTION:Mapping the potential for nature-based solutions (NbS) is part 
 of getting support in convincing local governments to incorporate them. Nb
 S can be d...
DTSTART;TZID=Europe/Brussels:20230918T110000
DTEND;TZID=Europe/Brussels:20230918T120000
LAST-MODIFIED:20240502T133948Z
SUMMARY:NICE Capacity-Building Webinar: Planning tools for integration of N
 bS for water treatment in cities
TRANSP:OPAQUE
END:VEVENT
END:VCALENDAR
