BEGIN:VCALENDAR
VERSION:2.0
PRODID:-//https://oppla.eu//NONSGML iCalcreator 2.41.92//
CALSCALE:GREGORIAN
METHOD:PUBLISH
UID:63366131-6437-4138-a334-333161323137
X-WR-RELCALID:node-15215-field_event_date
X-WR-TIMEZONE:Europe/Brussels
X-WR-CALNAME:Urban pollinators: how can cities protect pollinators and buil
 d resilience to climate change?
BEGIN:VTIMEZONE
TZID:Europe/Brussels
TZUNTIL:20250330T010000Z
BEGIN:STANDARD
TZNAME:CET
DTSTART:20221030T030000
TZOFFSETFROM:+0200
TZOFFSETTO:+0100
RDATE:20231029T030000
RDATE:20241027T030000
END:STANDARD
BEGIN:DAYLIGHT
TZNAME:CEST
DTSTART:20230326T020000
TZOFFSETFROM:+0100
TZOFFSETTO:+0200
RDATE:20240331T020000
END:DAYLIGHT
END:VTIMEZONE
BEGIN:VEVENT
UID:31666333-3532-4361-a565-303233613736
DTSTAMP:20260420T165629Z
CATEGORIES:Urban pollinators: how can cities protect pollinators and build 
 resilience to climate change?
CLASS:PUBLIC
CREATED:20230829T131610Z
DESCRIPTION:The Horizon project Safeguard is happy to invite you to an onli
 ne webinar: 'Urban pollinators: how can cities protect pollinators and bui
 ld resilie...
DTSTART;TZID=Europe/Brussels:20230920T103000
DTEND;TZID=Europe/Brussels:20230920T121500
LAST-MODIFIED:20230901T082622Z
SUMMARY:Urban pollinators: how can cities protect pollinators and build res
 ilience to climate change?
TRANSP:OPAQUE
END:VEVENT
END:VCALENDAR
