BEGIN:VCALENDAR
VERSION:2.0
PRODID:-//https://oppla.eu//NONSGML iCalcreator 2.41.92//
CALSCALE:GREGORIAN
METHOD:PUBLISH
UID:62396536-6435-4735-a462-663038353565
X-WR-RELCALID:node-15223-field_event_date
X-WR-TIMEZONE:Europe/Brussels
X-WR-CALNAME:Ponderful Technical Webinar
BEGIN:VTIMEZONE
TZID:Europe/Brussels
TZUNTIL:20250330T010000Z
BEGIN:STANDARD
TZNAME:CET
DTSTART:20221030T030000
TZOFFSETFROM:+0200
TZOFFSETTO:+0100
RDATE:20231029T030000
RDATE:20241027T030000
END:STANDARD
BEGIN:DAYLIGHT
TZNAME:CEST
DTSTART:20230326T020000
TZOFFSETFROM:+0100
TZOFFSETTO:+0200
RDATE:20240331T020000
END:DAYLIGHT
END:VTIMEZONE
BEGIN:VEVENT
UID:35373661-6162-4666-b635-653035316234
DTSTAMP:20260420T164905Z
CATEGORIES:Ponderful Technical Webinar
CLASS:PUBLIC
CREATED:20230901T121336Z
DESCRIPTION:Most of the worlds waterbodies are small enough to be considere
 d ponds: over 95% of waterbodies are estimated to be less than 0.1 km2 (10
  ha) in si...
DTSTART;TZID=Europe/Brussels:20230918T160000
DTEND;TZID=Europe/Brussels:20230918T173000
LAST-MODIFIED:20230901T121336Z
SUMMARY:Ponderful Technical Webinar
TRANSP:OPAQUE
END:VEVENT
END:VCALENDAR
