BEGIN:VCALENDAR
VERSION:2.0
PRODID:-//https://oppla.eu//NONSGML iCalcreator 2.41.92//
CALSCALE:GREGORIAN
METHOD:PUBLISH
UID:33653633-3031-4165-b933-366334313435
X-WR-RELCALID:node-15224-field_event_date
X-WR-TIMEZONE:Europe/Brussels
X-WR-CALNAME:EU Grassland Watch
BEGIN:VTIMEZONE
TZID:Europe/Brussels
TZUNTIL:20250330T010000Z
BEGIN:STANDARD
TZNAME:CET
DTSTART:20221030T030000
TZOFFSETFROM:+0200
TZOFFSETTO:+0100
RDATE:20231029T030000
RDATE:20241027T030000
END:STANDARD
BEGIN:DAYLIGHT
TZNAME:CEST
DTSTART:20230326T020000
TZOFFSETFROM:+0100
TZOFFSETTO:+0200
RDATE:20240331T020000
END:DAYLIGHT
END:VTIMEZONE
BEGIN:VEVENT
UID:30363038-3539-4561-b437-353136393639
DTSTAMP:20260420T170008Z
CATEGORIES:EU Grassland Watch
CLASS:PUBLIC
CREATED:20230901T121636Z
DESCRIPTION:EU Grassland Watch builds upon the Copernicus for Natura 2000 p
 roject (COP4N2K) launched in 2019. It aims to create a service that will a
 id in effe...
DTSTART;TZID=Europe/Brussels:20230912T100000
DTEND;TZID=Europe/Brussels:20230912T160000
LAST-MODIFIED:20230901T121636Z
SUMMARY:EU Grassland Watch
TRANSP:OPAQUE
END:VEVENT
END:VCALENDAR
