BEGIN:VCALENDAR
VERSION:2.0
PRODID:-//https://oppla.eu//NONSGML iCalcreator 2.41.92//
CALSCALE:GREGORIAN
METHOD:PUBLISH
UID:62313034-3035-4263-b962-663538373661
X-WR-RELCALID:node-15226-field_event_date
X-WR-TIMEZONE:Europe/Brussels
X-WR-CALNAME:CITIES TALK NATURE: Business Insights: Growing an NbS company:
  getting to 20
BEGIN:VTIMEZONE
TZID:Europe/Brussels
TZUNTIL:20250330T010000Z
BEGIN:STANDARD
TZNAME:CET
DTSTART:20221030T030000
TZOFFSETFROM:+0200
TZOFFSETTO:+0100
RDATE:20231029T030000
RDATE:20241027T030000
END:STANDARD
BEGIN:DAYLIGHT
TZNAME:CEST
DTSTART:20230326T020000
TZOFFSETFROM:+0100
TZOFFSETTO:+0200
RDATE:20240331T020000
END:DAYLIGHT
END:VTIMEZONE
BEGIN:VEVENT
UID:37633362-3262-4837-b039-663564343366
DTSTAMP:20260420T181250Z
CATEGORIES:CITIES TALK NATURE: Business Insights: Growing an NbS company: g
 etting to 20
CLASS:PUBLIC
CREATED:20230904T140735Z
DESCRIPTION:Join us on 19 September 2023\, as part of the CITIES TALK NATUR
 E: Business Insights series\, as we hear from small and medium sized natur
 e-based solu...
DTSTART;TZID=Europe/Brussels:20230919T160000
DTEND;TZID=Europe/Brussels:20230919T173000
LAST-MODIFIED:20240823T121104Z
SUMMARY:CITIES TALK NATURE: Business Insights: Growing an NbS company: gett
 ing to 20
TRANSP:OPAQUE
END:VEVENT
END:VCALENDAR
