BEGIN:VCALENDAR
VERSION:2.0
PRODID:-//https://oppla.eu//NONSGML iCalcreator 2.41.92//
CALSCALE:GREGORIAN
METHOD:PUBLISH
UID:30646431-3138-4665-b161-343331393038
X-WR-RELCALID:node-15282-field_event_date
X-WR-TIMEZONE:Europe/Brussels
X-WR-CALNAME:Unlocking the power of engagement for nature recovery and natu
 re-based solutions
BEGIN:VTIMEZONE
TZID:Europe/Brussels
TZUNTIL:20251026T010000Z
BEGIN:STANDARD
TZNAME:CET
DTSTART:20231029T030000
TZOFFSETFROM:+0200
TZOFFSETTO:+0100
RDATE:20241027T030000
END:STANDARD
BEGIN:DAYLIGHT
TZNAME:CEST
DTSTART:20230326T020000
TZOFFSETFROM:+0100
TZOFFSETTO:+0200
RDATE:20240331T020000
RDATE:20250330T020000
END:DAYLIGHT
END:VTIMEZONE
BEGIN:VEVENT
UID:64323732-6163-4764-a637-396437363264
DTSTAMP:20260420T071100Z
CATEGORIES:Unlocking the power of engagement for nature recovery and nature
 -based solutions
CLASS:PUBLIC
CREATED:20231204T162316Z
DESCRIPTION:This free webinar is organised by the Leverhulme Centre for Nat
 ure Recovery and the Agile Initiative. It will introduce The Recipe for En
 ...
DTSTART;TZID=Europe/Brussels:20240220T110000
DTEND;TZID=Europe/Brussels:20240220T120000
LAST-MODIFIED:20231204T162316Z
SUMMARY:Unlocking the power of engagement for nature recovery and nature-ba
 sed solutions
TRANSP:OPAQUE
X-ALT-DESC;FMTTYPE=TEXT/HTML:This free webinar is organised by the&nbsp\;Le
 verhulme Centre for Nature Recovery and the&nbsp\;Agile Initiative. It wil
 l introduce The Recipe for En...
END:VEVENT
END:VCALENDAR
