BEGIN:VCALENDAR
VERSION:2.0
PRODID:-//https://oppla.eu//NONSGML iCalcreator 2.41.92//
CALSCALE:GREGORIAN
METHOD:PUBLISH
UID:66363166-3739-4133-a438-646638326236
X-WR-RELCALID:node-15288-field_event_date
X-WR-TIMEZONE:Europe/Brussels
X-WR-CALNAME:Launch event: Investing in Peatlands publication
BEGIN:VTIMEZONE
TZID:Europe/Brussels
TZUNTIL:20251026T010000Z
BEGIN:STANDARD
TZNAME:CET
DTSTART:20231029T030000
TZOFFSETFROM:+0200
TZOFFSETTO:+0100
RDATE:20241027T030000
END:STANDARD
BEGIN:DAYLIGHT
TZNAME:CEST
DTSTART:20230326T020000
TZOFFSETFROM:+0100
TZOFFSETTO:+0200
RDATE:20240331T020000
RDATE:20250330T020000
END:DAYLIGHT
END:VTIMEZONE
BEGIN:VEVENT
UID:36313266-3361-4063-a530-646431656339
DTSTAMP:20260419T230525Z
CATEGORIES:Launch event: Investing in Peatlands publication
CLASS:PUBLIC
CREATED:20231218T163052Z
DESCRIPTION: Functional\, healthy peatlands are the most space-efficient\, 
 long-term and concentrated carbon stores and sinks in our planets biospher
 e.With ...
DTSTART;TZID=Europe/Brussels:20240118T130000
DTEND;TZID=Europe/Brussels:20240118T140000
LAST-MODIFIED:20231218T163052Z
SUMMARY:Launch event: Investing in Peatlands publication
TRANSP:OPAQUE
X-ALT-DESC;FMTTYPE=TEXT/HTML:&nbsp\;Functional\, healthy peatlands are the 
 most space-efficient\, long-term and concentrated carbon stores and sinks 
 in our planets biosphere.With ...
END:VEVENT
END:VCALENDAR
