BEGIN:VCALENDAR
VERSION:2.0
PRODID:-//https://oppla.eu//NONSGML iCalcreator 2.41.92//
CALSCALE:GREGORIAN
METHOD:PUBLISH
UID:66626362-3261-4336-b266-626165303631
X-WR-RELCALID:node-15292-field_event_date
X-WR-TIMEZONE:Europe/Brussels
X-WR-CALNAME:Industry engagement for sustainable soil health: Joining livin
 g labs
BEGIN:VTIMEZONE
TZID:Europe/Brussels
TZUNTIL:20251026T010000Z
BEGIN:STANDARD
TZNAME:CET
DTSTART:20231029T030000
TZOFFSETFROM:+0200
TZOFFSETTO:+0100
RDATE:20241027T030000
END:STANDARD
BEGIN:DAYLIGHT
TZNAME:CEST
DTSTART:20230326T020000
TZOFFSETFROM:+0100
TZOFFSETTO:+0200
RDATE:20240331T020000
RDATE:20250330T020000
END:DAYLIGHT
END:VTIMEZONE
BEGIN:VEVENT
UID:61623536-3733-4864-a564-653334326262
DTSTAMP:20260419T230438Z
CATEGORIES:Industry engagement for sustainable soil health: Joining living 
 labs
CLASS:PUBLIC
CREATED:20231219T132245Z
DESCRIPTION:The thematic event 'Industry engagement for sustainable soil he
 alth: Joining living labs' is co-organised by BusinessMed and EU proj...
DTSTART;TZID=Europe/Brussels:20240118T110000
DTEND;TZID=Europe/Brussels:20240118T130000
LAST-MODIFIED:20240502T133948Z
SUMMARY:Industry engagement for sustainable soil health: Joining living lab
 s
TRANSP:OPAQUE
X-ALT-DESC;FMTTYPE=TEXT/HTML:The&nbsp\;thematic event 'Industry engagement 
 for sustainable soil health: Joining living labs' is co-organised by&nbsp\
 ;BusinessMed&nbsp\;and EU proj...
END:VEVENT
END:VCALENDAR
