BEGIN:VCALENDAR
VERSION:2.0
PRODID:-//https://oppla.eu//NONSGML iCalcreator 2.41.92//
CALSCALE:GREGORIAN
METHOD:PUBLISH
UID:65323739-3833-4031-b933-303164353334
X-WR-RELCALID:node-15293-field_event_date
X-WR-TIMEZONE:Europe/Brussels
X-WR-CALNAME:Smart Soils: Smart Specialisation meets EU Soil Mission
BEGIN:VTIMEZONE
TZID:Europe/Brussels
TZUNTIL:20251026T010000Z
BEGIN:STANDARD
TZNAME:CET
DTSTART:20231029T030000
TZOFFSETFROM:+0200
TZOFFSETTO:+0100
RDATE:20241027T030000
END:STANDARD
BEGIN:DAYLIGHT
TZNAME:CEST
DTSTART:20230326T020000
TZOFFSETFROM:+0100
TZOFFSETTO:+0200
RDATE:20240331T020000
RDATE:20250330T020000
END:DAYLIGHT
END:VTIMEZONE
BEGIN:VEVENT
UID:31336635-3431-4263-b130-643533336162
DTSTAMP:20260420T030016Z
CATEGORIES:Smart Soils: Smart Specialisation meets EU Soil Mission
CLASS:PUBLIC
CREATED:20231219T133702Z
DESCRIPTION:The thematic event 'Smart Soils: Smart Specialisation meets EU 
 Soil Mission' is co-organised by FUNDECYT-PCTEX and EU project N...
DTSTART;TZID=Europe/Brussels:20240124T110000
DTEND;TZID=Europe/Brussels:20240124T130000
LAST-MODIFIED:20231219T133702Z
SUMMARY:Smart Soils: Smart Specialisation meets EU Soil Mission
TRANSP:OPAQUE
X-ALT-DESC;FMTTYPE=TEXT/HTML:The&nbsp\;thematic event 'Smart Soils: Smart S
 pecialisation meets EU Soil Mission' is co-organised by&nbsp\;FUNDECYT-PCT
 EX&nbsp\;and EU project&nbsp\;N...
END:VEVENT
END:VCALENDAR
