BEGIN:VCALENDAR
VERSION:2.0
PRODID:-//https://oppla.eu//NONSGML iCalcreator 2.41.92//
CALSCALE:GREGORIAN
METHOD:PUBLISH
UID:62306430-3035-4339-a539-643437636135
X-WR-RELCALID:node-15294-field_event_date
X-WR-TIMEZONE:Europe/Brussels
X-WR-CALNAME:Soil health from a forest land-use perspective
BEGIN:VTIMEZONE
TZID:Europe/Brussels
TZUNTIL:20251026T010000Z
BEGIN:STANDARD
TZNAME:CET
DTSTART:20231029T030000
TZOFFSETFROM:+0200
TZOFFSETTO:+0100
RDATE:20241027T030000
END:STANDARD
BEGIN:DAYLIGHT
TZNAME:CEST
DTSTART:20230326T020000
TZOFFSETFROM:+0100
TZOFFSETTO:+0200
RDATE:20240331T020000
RDATE:20250330T020000
END:DAYLIGHT
END:VTIMEZONE
BEGIN:VEVENT
UID:65383264-6336-4932-a339-363830386364
DTSTAMP:20260419T225841Z
CATEGORIES:Soil health from a forest land-use perspective
CLASS:PUBLIC
CREATED:20231219T134525Z
DESCRIPTION:The thematic event 'Soil health from a forest land-use perspect
 ive' is co-organised by the Swedish University of Agricultural Sciences (S
 LU)&n...
DTSTART;TZID=Europe/Brussels:20240125T110000
DTEND;TZID=Europe/Brussels:20240125T130000
LAST-MODIFIED:20231219T134525Z
SUMMARY:Soil health from a forest land-use perspective
TRANSP:OPAQUE
X-ALT-DESC;FMTTYPE=TEXT/HTML:The&nbsp\;thematic event 'Soil health from a f
 orest land-use perspective' is co-organised by the Swedish University of A
 gricultural Sciences (SLU)&n...
END:VEVENT
END:VCALENDAR
