BEGIN:VCALENDAR
VERSION:2.0
PRODID:-//https://oppla.eu//NONSGML iCalcreator 2.41.92//
CALSCALE:GREGORIAN
METHOD:PUBLISH
UID:30663136-6165-4432-b835-623432383561
X-WR-RELCALID:node-15303-field_event_date
X-WR-TIMEZONE:Europe/Brussels
X-WR-CALNAME:WaterLANDS Webinar: Introduction to PeatDataHub
BEGIN:VTIMEZONE
TZID:Europe/Brussels
TZUNTIL:20251026T010000Z
BEGIN:STANDARD
TZNAME:CET
DTSTART:20231029T030000
TZOFFSETFROM:+0200
TZOFFSETTO:+0100
RDATE:20241027T030000
END:STANDARD
BEGIN:DAYLIGHT
TZNAME:CEST
DTSTART:20230326T020000
TZOFFSETFROM:+0100
TZOFFSETTO:+0200
RDATE:20240331T020000
RDATE:20250330T020000
END:DAYLIGHT
END:VTIMEZONE
BEGIN:VEVENT
UID:32396363-3934-4438-a561-643635383739
DTSTAMP:20260419T225317Z
CATEGORIES:WaterLANDS Webinar: Introduction to PeatDataHub
CLASS:PUBLIC
CREATED:20240112T133034Z
DESCRIPTION:This WaterLANDS webinar will introduce the the PeatDataHub data
 base as a tool for data management of peatland monitoring projects. The we
 ...
DTSTART;TZID=Europe/Brussels:20240118T150000
DTEND;TZID=Europe/Brussels:20240118T170000
LAST-MODIFIED:20240112T133034Z
SUMMARY:WaterLANDS Webinar: Introduction to PeatDataHub
TRANSP:OPAQUE
X-ALT-DESC;FMTTYPE=TEXT/HTML:This WaterLANDS webinar will introduce the&nbs
 p\;the PeatDataHub database as a tool for data management of peatland moni
 toring&nbsp\;projects. The we...
END:VEVENT
END:VCALENDAR
