BEGIN:VCALENDAR
VERSION:2.0
PRODID:-//https://oppla.eu//NONSGML iCalcreator 2.41.92//
CALSCALE:GREGORIAN
METHOD:PUBLISH
UID:38626163-3938-4237-b630-636534383938
X-WR-RELCALID:node-15458-field_event_date
X-WR-TIMEZONE:Europe/Brussels
X-WR-CALNAME:CoolSchools Final Conference
BEGIN:VTIMEZONE
TZID:Europe/Brussels
TZUNTIL:20261025T010000Z
BEGIN:STANDARD
TZNAME:CET
DTSTART:20241027T030000
TZOFFSETFROM:+0200
TZOFFSETTO:+0100
RDATE:20251026T030000
END:STANDARD
BEGIN:DAYLIGHT
TZNAME:CEST
DTSTART:20240331T020000
TZOFFSETFROM:+0100
TZOFFSETTO:+0200
RDATE:20250330T020000
RDATE:20260329T020000
END:DAYLIGHT
END:VTIMEZONE
BEGIN:VEVENT
UID:65616364-3962-4033-a365-623034356463
DTSTAMP:20260419T235527Z
CATEGORIES:CoolSchools Final Conference
CLASS:PUBLIC
CREATED:20250109T133710Z
DESCRIPTION:Organized by the EU-funded COOLSCHOOLS project\, the event will
  foster dynamic discussions and share new research and innovative practice
 s on nature...
DTSTART;TZID=Europe/Brussels:20250123T010000
DTEND;TZID=Europe/Brussels:20250125T004500
LAST-MODIFIED:20250109T133815Z
SUMMARY:CoolSchools Final Conference
TRANSP:OPAQUE
END:VEVENT
END:VCALENDAR
