BEGIN:VCALENDAR
VERSION:2.0
PRODID:-//https://oppla.eu//NONSGML iCalcreator 2.41.92//
CALSCALE:GREGORIAN
METHOD:PUBLISH
UID:66393934-6361-4631-a639-396536626661
X-WR-RELCALID:node-15462-field_event_date
X-WR-TIMEZONE:Europe/Brussels
X-WR-CALNAME:BiodivNBS kick-off meeting
BEGIN:VTIMEZONE
TZID:Europe/Brussels
TZUNTIL:20261025T010000Z
BEGIN:STANDARD
TZNAME:CET
DTSTART:20241027T030000
TZOFFSETFROM:+0200
TZOFFSETTO:+0100
RDATE:20251026T030000
END:STANDARD
BEGIN:DAYLIGHT
TZNAME:CEST
DTSTART:20250330T020000
TZOFFSETFROM:+0100
TZOFFSETTO:+0200
RDATE:20260329T020000
END:DAYLIGHT
END:VTIMEZONE
BEGIN:VEVENT
UID:37363734-3466-4432-b138-333139636662
DTSTAMP:20260425T234916Z
CATEGORIES:BiodivNBS kick-off meeting
CLASS:PUBLIC
CREATED:20250207T101724Z
DESCRIPTION:Join Biodiversa+ on 9 April 2025\, from 9:00 to 16:45 CEST to d
 iscover 34 new projects shaping the future of Nature-based Solutions (NbS)
 !...
DTSTART;TZID=Europe/Brussels:20250409T090000
DTEND;TZID=Europe/Brussels:20250409T164500
LAST-MODIFIED:20250207T101724Z
SUMMARY:BiodivNBS kick-off meeting
TRANSP:OPAQUE
X-ALT-DESC;FMTTYPE=TEXT/HTML:Join Biodiversa+ on&nbsp\;9 April 2025\, from 
 9:00 to 16:45 CEST&nbsp\;to discover 34 new projects shaping the future of
  Nature-based Solutions (NbS)!...
END:VEVENT
END:VCALENDAR
