BEGIN:VCALENDAR
VERSION:2.0
PRODID:-//https://oppla.eu//NONSGML iCalcreator 2.41.92//
CALSCALE:GREGORIAN
METHOD:PUBLISH
UID:38313233-6530-4338-a262-326561346566
X-WR-RELCALID:node-17504-field_event_date
X-WR-TIMEZONE:Europe/Brussels
X-WR-CALNAME:European Research and Innovation Days
BEGIN:VTIMEZONE
TZID:Europe/Brussels
TZUNTIL:20270328T010000Z
BEGIN:STANDARD
TZNAME:CET
DTSTART:20241027T030000
TZOFFSETFROM:+0200
TZOFFSETTO:+0100
RDATE:20251026T030000
RDATE:20261025T030000
END:STANDARD
BEGIN:DAYLIGHT
TZNAME:CEST
DTSTART:20250330T020000
TZOFFSETFROM:+0100
TZOFFSETTO:+0200
RDATE:20260329T020000
END:DAYLIGHT
END:VTIMEZONE
BEGIN:VEVENT
UID:36333237-3235-4030-b365-376333373265
DTSTAMP:20260422T020655Z
CATEGORIES:European Research and Innovation Days
CLASS:PUBLIC
CREATED:20250715T083455Z
DESCRIPTION:The Commission’s flagship research and innovation event brings 
 together policymakers\, researchers\, stakeholders and the public to debat
 e and shape ...
DTSTART;TZID=Europe/Brussels:20250916T000000
DTEND;TZID=Europe/Brussels:20250917T235900
LAST-MODIFIED:20251127T112602Z
SUMMARY:European Research and Innovation Days
TRANSP:OPAQUE
END:VEVENT
END:VCALENDAR
