BEGIN:VCALENDAR
VERSION:2.0
PRODID:-//https://oppla.eu//NONSGML iCalcreator 2.41.92//
CALSCALE:GREGORIAN
METHOD:PUBLISH
UID:33616565-6666-4261-a565-326533376266
X-WR-RELCALID:node-17505-field_event_date
X-WR-TIMEZONE:Europe/Brussels
X-WR-CALNAME:From Vision to Investment: Preparing Bankable NbS Projects
BEGIN:VTIMEZONE
TZID:Europe/Brussels
TZUNTIL:20270328T010000Z
BEGIN:STANDARD
TZNAME:CET
DTSTART:20241027T030000
TZOFFSETFROM:+0200
TZOFFSETTO:+0100
RDATE:20251026T030000
RDATE:20261025T030000
END:STANDARD
BEGIN:DAYLIGHT
TZNAME:CEST
DTSTART:20250330T020000
TZOFFSETFROM:+0100
TZOFFSETTO:+0200
RDATE:20260329T020000
END:DAYLIGHT
END:VTIMEZONE
BEGIN:VEVENT
UID:63326465-3630-4339-b533-353837343033
DTSTAMP:20260423T214738Z
CATEGORIES:From Vision to Investment: Preparing Bankable NbS Projects
CLASS:PUBLIC
CREATED:20250715T084501Z
DTSTART;TZID=Europe/Brussels:20250723T140000
DTEND;TZID=Europe/Brussels:20250723T153000
LAST-MODIFIED:20250715T084902Z
SUMMARY:From Vision to Investment: Preparing Bankable NbS Projects
TRANSP:OPAQUE
END:VEVENT
END:VCALENDAR
