BEGIN:VCALENDAR
VERSION:2.0
PRODID:-//https://oppla.eu//NONSGML iCalcreator 2.41.92//
CALSCALE:GREGORIAN
METHOD:PUBLISH
UID:63626234-3434-4366-b163-623532663634
X-WR-RELCALID:node-17591-field_event_date
X-WR-TIMEZONE:Europe/Brussels
X-WR-CALNAME:Conference: Computational Methods in Science Communication Res
 earch – Opportunities\, Challenges\, and Current Applications
BEGIN:VTIMEZONE
TZID:Europe/Brussels
TZUNTIL:20270328T010000Z
BEGIN:STANDARD
TZNAME:CET
DTSTART:20241027T030000
TZOFFSETFROM:+0200
TZOFFSETTO:+0100
RDATE:20251026T030000
RDATE:20261025T030000
END:STANDARD
BEGIN:DAYLIGHT
TZNAME:CEST
DTSTART:20250330T020000
TZOFFSETFROM:+0100
TZOFFSETTO:+0200
RDATE:20260329T020000
END:DAYLIGHT
END:VTIMEZONE
BEGIN:VEVENT
UID:63333030-6131-4139-a531-656663366566
DTSTAMP:20260423T091814Z
CATEGORIES:Conference: Computational Methods in Science Communication Resea
 rch – Opportunities\, Challenges\, and Current Applications
CLASS:PUBLIC
CREATED:20250807T140314Z
DESCRIPTION:This event promotes the interdisciplinary integration of innova
 tive methods to better understand societal communication dynamics in times
  of crisis.
DTSTART;TZID=Europe/Brussels:20250925T000000
DTEND;TZID=Europe/Brussels:20250926T235900
LAST-MODIFIED:20250807T140851Z
SUMMARY:Conference: Computational Methods in Science Communication Research
  – Opportunities\, Challenges\, and Current Applications
TRANSP:OPAQUE
X-ALT-DESC;FMTTYPE=TEXT/HTML:This event promotes the interdisciplinary inte
 gration of innovative methods to better understand societal communication 
 dynamics in times of crisis.
END:VEVENT
END:VCALENDAR
