BEGIN:VCALENDAR
VERSION:2.0
PRODID:-//https://oppla.eu//NONSGML iCalcreator 2.41.92//
CALSCALE:GREGORIAN
METHOD:PUBLISH
UID:66646530-6361-4833-a532-653939373234
X-WR-RELCALID:node-18320-field_event_date
X-WR-TIMEZONE:Europe/Brussels
X-WR-CALNAME:EGU 2026 (3-8 May): Advancing Climate Adaptation through Natur
 e-based Solutions
BEGIN:VTIMEZONE
TZID:Europe/Brussels
TZUNTIL:20280326T010000Z
BEGIN:STANDARD
TZNAME:CET
DTSTART:20251026T030000
TZOFFSETFROM:+0200
TZOFFSETTO:+0100
RDATE:20261025T030000
RDATE:20271031T030000
END:STANDARD
BEGIN:DAYLIGHT
TZNAME:CEST
DTSTART:20260329T020000
TZOFFSETFROM:+0100
TZOFFSETTO:+0200
RDATE:20270328T020000
END:DAYLIGHT
END:VTIMEZONE
BEGIN:VEVENT
UID:34663234-3234-4164-b230-386437383439
DTSTAMP:20260422T095353Z
CATEGORIES:EGU 2026 (3-8 May): Advancing Climate Adaptation through Nature-
 based Solutions
CLASS:PUBLIC
CREATED:20251219T075214Z
DESCRIPTION:Contribute to the EGU 2026 session on Nature-based Solutions fo
 r climate change adaptation. Abstract deadline: 15 Jan 2026.
DTSTART;TZID=Europe/Brussels:20260503T000000
DTEND;TZID=Europe/Brussels:20260508T235900
LAST-MODIFIED:20260216T133416Z
SUMMARY:EGU 2026 (3-8 May): Advancing Climate Adaptation through Nature-bas
 ed Solutions
TRANSP:OPAQUE
END:VEVENT
END:VCALENDAR
