BEGIN:VCALENDAR
VERSION:2.0
PRODID:-//https://oppla.eu//NONSGML iCalcreator 2.41.92//
CALSCALE:GREGORIAN
METHOD:PUBLISH
UID:32656463-6362-4665-b461-303832613335
X-WR-RELCALID:node-18395-field_event_date
X-WR-TIMEZONE:Europe/Brussels
X-WR-CALNAME:SBDI Days 2026 − Artificial Intelligence in Ecology and Biodiv
 ersity Research
BEGIN:VTIMEZONE
TZID:Europe/Brussels
TZUNTIL:20271031T010000Z
BEGIN:STANDARD
TZNAME:CET
DTSTART:20251026T030000
TZOFFSETFROM:+0200
TZOFFSETTO:+0100
RDATE:20261025T030000
END:STANDARD
BEGIN:DAYLIGHT
TZNAME:CEST
DTSTART:20250330T020000
TZOFFSETFROM:+0100
TZOFFSETTO:+0200
RDATE:20260329T020000
RDATE:20270328T020000
END:DAYLIGHT
END:VTIMEZONE
BEGIN:VEVENT
UID:30383730-3562-4036-a236-646666613238
DTSTAMP:20260420T154705Z
CATEGORIES:SBDI Days 2026 − Artificial Intelligence in Ecology and Biodiver
 sity Research
CLASS:PUBLIC
CREATED:20260112T061020Z
DESCRIPTION:On 10–11 February\, join the SBDI Days 2026 in Stockholm\, Swed
 en.
DTSTART;TZID=Europe/Brussels:20260210T000000
DTEND;TZID=Europe/Brussels:20260211T235900
LAST-MODIFIED:20260112T073342Z
SUMMARY:SBDI Days 2026 − Artificial Intelligence in Ecology and Biodiversit
 y Research
TRANSP:OPAQUE
END:VEVENT
END:VCALENDAR
