BEGIN:VCALENDAR
VERSION:2.0
PRODID:-//https://oppla.eu//NONSGML iCalcreator 2.41.92//
CALSCALE:GREGORIAN
METHOD:PUBLISH
UID:37653533-3530-4563-a663-616139363339
X-WR-RELCALID:node-18432-field_event_date
X-WR-TIMEZONE:Europe/Brussels
X-WR-CALNAME:European Urban Resilience Forum 2026
BEGIN:VTIMEZONE
TZID:Europe/Brussels
TZUNTIL:20280326T010000Z
BEGIN:STANDARD
TZNAME:CET
DTSTART:20251026T030000
TZOFFSETFROM:+0200
TZOFFSETTO:+0100
RDATE:20261025T030000
RDATE:20271031T030000
END:STANDARD
BEGIN:DAYLIGHT
TZNAME:CEST
DTSTART:20260329T020000
TZOFFSETFROM:+0100
TZOFFSETTO:+0200
RDATE:20270328T020000
END:DAYLIGHT
END:VTIMEZONE
BEGIN:VEVENT
UID:30383263-3836-4062-b536-666137376337
DTSTAMP:20260422T095205Z
CATEGORIES:European Urban Resilience Forum 2026
CLASS:PUBLIC
CREATED:20260120T081924Z
DESCRIPTION:Join us in Guimarães\, European Green Capital 2026\, for EURESF
 O26. From 17–19 June\, discover the future of climate resilience.
DTSTART;TZID=Europe/Brussels:20260617T010000
DTEND;TZID=Europe/Brussels:20260620T005900
LAST-MODIFIED:20260120T091028Z
SUMMARY:European Urban Resilience Forum 2026
TRANSP:OPAQUE
END:VEVENT
END:VCALENDAR
