BEGIN:VCALENDAR
VERSION:2.0
PRODID:-//https://oppla.eu//NONSGML iCalcreator 2.41.92//
CALSCALE:GREGORIAN
METHOD:PUBLISH
UID:65386237-3331-4663-b236-653362636133
X-WR-RELCALID:node-18529-field_event_date
X-WR-TIMEZONE:Europe/Brussels
X-WR-CALNAME:German-American Nature-Based Solutions Exchange June 13-20
BEGIN:VTIMEZONE
TZID:Europe/Brussels
TZUNTIL:20280326T010000Z
BEGIN:STANDARD
TZNAME:CET
DTSTART:20251026T030000
TZOFFSETFROM:+0200
TZOFFSETTO:+0100
RDATE:20261025T030000
RDATE:20271031T030000
END:STANDARD
BEGIN:DAYLIGHT
TZNAME:CEST
DTSTART:20260329T020000
TZOFFSETFROM:+0100
TZOFFSETTO:+0200
RDATE:20270328T020000
END:DAYLIGHT
END:VTIMEZONE
BEGIN:VEVENT
UID:39336262-3734-4330-b664-396663656337
DTSTAMP:20260422T095709Z
CATEGORIES:German-American Nature-Based Solutions Exchange June 13-20
CLASS:PUBLIC
CREATED:20260203T153200Z
DESCRIPTION:Join the German-American Nature-Based Solutions Exchange 2026 w
 ith trips to Germany from June 13 to 20 and Minnesota\, August 22 to 28.
DTSTART;TZID=Europe/Brussels:20260613T000000
DTEND;TZID=Europe/Brussels:20260620T235900
LAST-MODIFIED:20260205T165425Z
SUMMARY:German-American Nature-Based Solutions Exchange June 13-20
TRANSP:OPAQUE
END:VEVENT
END:VCALENDAR
