BEGIN:VCALENDAR
VERSION:2.0
PRODID:-//https://oppla.eu//NONSGML iCalcreator 2.41.92//
CALSCALE:GREGORIAN
METHOD:PUBLISH
UID:38346364-3562-4636-b935-303038356561
X-WR-RELCALID:node-18717-field_event_date
X-WR-TIMEZONE:Europe/Brussels
X-WR-CALNAME:21st Annual Meeting of the Europe Chapter of the Society of We
 tland Scientists
BEGIN:VTIMEZONE
TZID:Europe/Brussels
TZUNTIL:20280326T010000Z
BEGIN:STANDARD
TZNAME:CET
DTSTART:20251026T030000
TZOFFSETFROM:+0200
TZOFFSETTO:+0100
RDATE:20261025T030000
RDATE:20271031T030000
END:STANDARD
BEGIN:DAYLIGHT
TZNAME:CEST
DTSTART:20260329T020000
TZOFFSETFROM:+0100
TZOFFSETTO:+0200
RDATE:20270328T020000
END:DAYLIGHT
END:VTIMEZONE
BEGIN:VEVENT
UID:35666164-3462-4263-b261-353133636337
DTSTAMP:20260422T095953Z
CATEGORIES:21st Annual Meeting of the Europe Chapter of the Society of Wetl
 and Scientists
CLASS:PUBLIC
CREATED:20260309T143038Z
DESCRIPTION:Join us in České Budějovice\, Czech Republic\, for the 21st Ann
 ual Meeting of the Europe Chapter of the Society of Wetland Scientists.
DTSTART;TZID=Europe/Brussels:20260629T000000
DTEND;TZID=Europe/Brussels:20260702T235900
LAST-MODIFIED:20260309T143451Z
SUMMARY:21st Annual Meeting of the Europe Chapter of the Society of Wetland
  Scientists
TRANSP:OPAQUE
END:VEVENT
END:VCALENDAR
