BEGIN:VCALENDAR
VERSION:2.0
PRODID:-//https://oppla.eu//NONSGML iCalcreator 2.41.92//
CALSCALE:GREGORIAN
METHOD:PUBLISH
UID:62663337-3439-4161-b232-623661633832
X-WR-RELCALID:node-18823-field_event_date
X-WR-TIMEZONE:Europe/Brussels
X-WR-CALNAME:TETTRIs (Transforming European Taxonomy through Training\, Res
 earch\, and Innovation) Final event
BEGIN:VTIMEZONE
TZID:Europe/Brussels
TZUNTIL:20271031T010000Z
BEGIN:STANDARD
TZNAME:CET
DTSTART:20251026T030000
TZOFFSETFROM:+0200
TZOFFSETTO:+0100
RDATE:20261025T030000
END:STANDARD
BEGIN:DAYLIGHT
TZNAME:CEST
DTSTART:20260329T020000
TZOFFSETFROM:+0100
TZOFFSETTO:+0200
RDATE:20270328T020000
END:DAYLIGHT
END:VTIMEZONE
BEGIN:VEVENT
UID:35376231-3436-4666-a238-613465346235
DTSTAMP:20260422T100545Z
CATEGORIES:TETTRIs (Transforming European Taxonomy through Training\, Resea
 rch\, and Innovation) Final event
CLASS:PUBLIC
CREATED:20260323T160856Z
DESCRIPTION:TETTRIs final event: researchers and policymakers discuss proje
 ct results and the future of taxonomy for biodiversity science and policy.
DTSTART;TZID=Europe/Brussels:20260427T000000
DTEND;TZID=Europe/Brussels:20260429T235900
LAST-MODIFIED:20260327T141938Z
SUMMARY:TETTRIs (Transforming European Taxonomy through Training\, Research
 \, and Innovation) Final event
TRANSP:OPAQUE
END:VEVENT
END:VCALENDAR
