BEGIN:VCALENDAR
VERSION:2.0
PRODID:-//https://oppla.eu//NONSGML iCalcreator 2.41.92//
CALSCALE:GREGORIAN
METHOD:PUBLISH
UID:31313530-3636-4362-b537-643437633966
X-WR-RELCALID:node-18842-field_event_date
X-WR-TIMEZONE:Europe/Brussels
X-WR-CALNAME:STOA Workshop: Nature-Based Solutions Against Forest Wildfires
BEGIN:VTIMEZONE
TZID:Europe/Brussels
TZUNTIL:20280326T010000Z
BEGIN:STANDARD
TZNAME:CET
DTSTART:20251026T030000
TZOFFSETFROM:+0200
TZOFFSETTO:+0100
RDATE:20261025T030000
RDATE:20271031T030000
END:STANDARD
BEGIN:DAYLIGHT
TZNAME:CEST
DTSTART:20260329T020000
TZOFFSETFROM:+0100
TZOFFSETTO:+0200
RDATE:20270328T020000
END:DAYLIGHT
END:VTIMEZONE
BEGIN:VEVENT
UID:64356233-6635-4364-b930-303163306233
DTSTAMP:20260422T094809Z
CATEGORIES:STOA Workshop: Nature-Based Solutions Against Forest Wildfires
CLASS:PUBLIC
CREATED:20260331T081800Z
DESCRIPTION:As wildfire risk grows across Europe\, this session explores ho
 w nature-based solutions can support prevention\, resilience and landscape
  management.
DTSTART;TZID=Europe/Brussels:20260512T150000
DTEND;TZID=Europe/Brussels:20260512T170000
LAST-MODIFIED:20260331T082708Z
SUMMARY:STOA Workshop: Nature-Based Solutions Against Forest Wildfires
TRANSP:OPAQUE
END:VEVENT
END:VCALENDAR
