BEGIN:VCALENDAR
VERSION:2.0
PRODID:-//https://oppla.eu//NONSGML iCalcreator 2.41.92//
CALSCALE:GREGORIAN
METHOD:PUBLISH
UID:38316334-6135-4430-b938-386239666135
X-WR-RELCALID:node-18902-field_event_date
X-WR-TIMEZONE:Europe/Brussels
X-WR-CALNAME:MIP4Adapt Event | Navigating the Adaptation Finance Landscape
BEGIN:VTIMEZONE
TZID:Europe/Brussels
TZUNTIL:20271031T010000Z
BEGIN:STANDARD
TZNAME:CET
DTSTART:20251026T030000
TZOFFSETFROM:+0200
TZOFFSETTO:+0100
RDATE:20261025T030000
END:STANDARD
BEGIN:DAYLIGHT
TZNAME:CEST
DTSTART:20260329T020000
TZOFFSETFROM:+0100
TZOFFSETTO:+0200
RDATE:20270328T020000
END:DAYLIGHT
END:VTIMEZONE
BEGIN:VEVENT
UID:37646534-6462-4535-a436-663934346538
DTSTAMP:20260422T094133Z
CATEGORIES:MIP4Adapt Event | Navigating the Adaptation Finance Landscape
CLASS:PUBLIC
CREATED:20260420T090313Z
DESCRIPTION:Join this webinar on the practical side of adaptation finance a
 nd how you can choose the right funding approach for your projects!
DTSTART;TZID=Europe/Brussels:20260429T100000
DTEND;TZID=Europe/Brussels:20260429T120000
LAST-MODIFIED:20260420T090623Z
SUMMARY:MIP4Adapt Event | Navigating the Adaptation Finance Landscape
TRANSP:OPAQUE
END:VEVENT
END:VCALENDAR
